BEGIN:VCALENDAR
VERSION:2.0
PRODID:-//Top Form Athletics Club - ECPv6.15.18//NONSGML v1.0//EN
CALSCALE:GREGORIAN
METHOD:PUBLISH
X-WR-CALNAME:Top Form Athletics Club
X-ORIGINAL-URL:https://topformathletic.co.za
X-WR-CALDESC:Events for Top Form Athletics Club
REFRESH-INTERVAL;VALUE=DURATION:PT1H
X-Robots-Tag:noindex
X-PUBLISHED-TTL:PT1H
BEGIN:VTIMEZONE
TZID:Europe/Helsinki
BEGIN:DAYLIGHT
TZOFFSETFROM:+0200
TZOFFSETTO:+0300
TZNAME:EEST
DTSTART:20230326T010000
END:DAYLIGHT
BEGIN:STANDARD
TZOFFSETFROM:+0300
TZOFFSETTO:+0200
TZNAME:EET
DTSTART:20231029T010000
END:STANDARD
BEGIN:DAYLIGHT
TZOFFSETFROM:+0200
TZOFFSETTO:+0300
TZNAME:EEST
DTSTART:20240331T010000
END:DAYLIGHT
BEGIN:STANDARD
TZOFFSETFROM:+0300
TZOFFSETTO:+0200
TZNAME:EET
DTSTART:20241027T010000
END:STANDARD
BEGIN:DAYLIGHT
TZOFFSETFROM:+0200
TZOFFSETTO:+0300
TZNAME:EEST
DTSTART:20250330T010000
END:DAYLIGHT
BEGIN:STANDARD
TZOFFSETFROM:+0300
TZOFFSETTO:+0200
TZNAME:EET
DTSTART:20251026T010000
END:STANDARD
END:VTIMEZONE
BEGIN:VEVENT
DTSTART;TZID=Europe/Helsinki:20240928T063000
DTEND;TZID=Europe/Helsinki:20240928T063000
DTSTAMP:20260422T130058
CREATED:20240608T235550Z
LAST-MODIFIED:20240916T152409Z
UID:1012-1727505000-1727505000@topformathletic.co.za
SUMMARY:Goodwood Harriers Heritage 10km Challenge – WPA 10km Championship
DESCRIPTION:
URL:https://topformathletic.co.za/event/goodwood-harriers-heritage-10km-challenge-wpa-10km-championship-2/
CATEGORIES:Events
END:VEVENT
BEGIN:VEVENT
DTSTART;TZID=Europe/Helsinki:20240928T000000
DTEND;TZID=Europe/Helsinki:20240928T000000
DTSTAMP:20260422T130058
CREATED:20240917T054824Z
LAST-MODIFIED:20240917T062555Z
UID:1981-1727481600-1727481600@topformathletic.co.za
SUMMARY:WPA Race Walking Grand Prix 6
DESCRIPTION:
URL:https://topformathletic.co.za/event/wpa-race-walking-grand-prix-6/
CATEGORIES:Events
END:VEVENT
BEGIN:VEVENT
DTSTART;TZID=Europe/Helsinki:20240924T070000
DTEND;TZID=Europe/Helsinki:20240924T070000
DTSTAMP:20260422T130058
CREATED:20240608T235549Z
LAST-MODIFIED:20240916T152531Z
UID:1011-1727161200-1727161200@topformathletic.co.za
SUMMARY:Nantes Heritage Day Race
DESCRIPTION:
URL:https://topformathletic.co.za/event/nantes-heritage-day-race-2/
CATEGORIES:Events
END:VEVENT
BEGIN:VEVENT
DTSTART;TZID=Europe/Helsinki:20240922T063000
DTEND;TZID=Europe/Helsinki:20240922T063000
DTSTAMP:20260422T130058
CREATED:20240608T235548Z
LAST-MODIFIED:20240916T152903Z
UID:1010-1726986600-1726986600@topformathletic.co.za
SUMMARY:Chapman's Peak Half Marathon
DESCRIPTION:21.1km – 06:30am \n10km – 07:10am
URL:https://topformathletic.co.za/event/chapmans-peak-half-marathon-2/
CATEGORIES:Events
END:VEVENT
BEGIN:VEVENT
DTSTART;TZID=Europe/Helsinki:20240921T070000
DTEND;TZID=Europe/Helsinki:20240921T070000
DTSTAMP:20260422T130058
CREATED:20240608T235547Z
LAST-MODIFIED:20240916T152954Z
UID:1009-1726902000-1726902000@topformathletic.co.za
SUMMARY:Bakgat 10km – League Race
DESCRIPTION:
URL:https://topformathletic.co.za/event/bakgat-10km-league-race-2/
CATEGORIES:Events
END:VEVENT
BEGIN:VEVENT
DTSTART;TZID=Europe/Helsinki:20240907T080000
DTEND;TZID=Europe/Helsinki:20240907T080000
DTSTAMP:20260422T130059
CREATED:20240608T235533Z
LAST-MODIFIED:20240609T001508Z
UID:1008-1725696000-1725696000@topformathletic.co.za
SUMMARY:ASA Cross Country Championships
DESCRIPTION:
URL:https://topformathletic.co.za/event/asa-cross-country-championships-2/
CATEGORIES:Events
END:VEVENT
BEGIN:VEVENT
DTSTART;TZID=Europe/Helsinki:20240907T070000
DTEND;TZID=Europe/Helsinki:20240907T070000
DTSTAMP:20260422T130059
CREATED:20240608T235533Z
LAST-MODIFIED:20240916T153142Z
UID:1007-1725692400-1725692400@topformathletic.co.za
SUMMARY:Tekkie Challenge – 10km & 16km
DESCRIPTION:
URL:https://topformathletic.co.za/event/tekkie-challenge-10km-16km-2/
CATEGORIES:Events
END:VEVENT
BEGIN:VEVENT
DTSTART;TZID=Europe/Helsinki:20240901T070000
DTEND;TZID=Europe/Helsinki:20240901T070000
DTSTAMP:20260422T130059
CREATED:20240608T235532Z
LAST-MODIFIED:20240916T153407Z
UID:1006-1725174000-1725174000@topformathletic.co.za
SUMMARY:Khayeltisha AC Road Race
DESCRIPTION:KAC Road Race 21.1km \nKAC Road Race 10km \nKAC Road Race Fun Run 5km
URL:https://topformathletic.co.za/event/khayeltisha-ac-road-race-2/
CATEGORIES:Events
END:VEVENT
BEGIN:VEVENT
DTSTART;TZID=Europe/Helsinki:20240818T073000
DTEND;TZID=Europe/Helsinki:20240818T073000
DTSTAMP:20260422T130059
CREATED:20240608T235440Z
LAST-MODIFIED:20240609T001453Z
UID:1005-1723966200-1723966200@topformathletic.co.za
SUMMARY:Satori Camel Run
DESCRIPTION:
URL:https://topformathletic.co.za/event/satori-camel-run-2/
CATEGORIES:Events
END:VEVENT
BEGIN:VEVENT
DTSTART;TZID=Europe/Helsinki:20240817T070000
DTEND;TZID=Europe/Helsinki:20240817T070000
DTSTAMP:20260422T130059
CREATED:20240608T235440Z
LAST-MODIFIED:20240916T141854Z
UID:1004-1723878000-1723878000@topformathletic.co.za
SUMMARY:Bonteheuwel 10km
DESCRIPTION:
URL:https://topformathletic.co.za/event/bonteheuwel-10km-2/
CATEGORIES:Events
END:VEVENT
BEGIN:VEVENT
DTSTART;TZID=Europe/Helsinki:20240811T070000
DTEND;TZID=Europe/Helsinki:20240811T070000
DTSTAMP:20260422T130059
CREATED:20240608T235439Z
LAST-MODIFIED:20240609T001453Z
UID:1003-1723359600-1723359600@topformathletic.co.za
SUMMARY:John Korasie 30km
DESCRIPTION:
URL:https://topformathletic.co.za/event/john-korasie-30km-2/
CATEGORIES:Events
END:VEVENT
BEGIN:VEVENT
DTSTART;VALUE=DATE:20240810
DTEND;VALUE=DATE:20240811
DTSTAMP:20260422T130059
CREATED:20240608T235438Z
LAST-MODIFIED:20250404T071009Z
UID:1002-1723248000-1723334399@topformathletic.co.za
SUMMARY:WPA Cross Country Championships
DESCRIPTION:Cross Country Overview \n  \nNature of the Sport: \n– Described as the “purest form” of running\, cross country is characterized by its minimalistic requirements compared to other running disciplines like road racing or track events. \n– It serves as an important foundation for middle and long-distance runners\, promoting stamina and speed\, essential for athletes transitioning to track and field events. \n  \nStructure of WPA Cross Country League \n  \n\nCompetition Format:\n\n– The league consists of six league events and the WPACC Championships\, held across diverse courses during the winter months. \n– Races are organized based on age categories\, ensuring that participants compete against peers\, which fosters a more equitable competitive environment. Distance variations are also tailored to these age groups\, ensuring that the challenges are age-appropriate. \n  \n\nParticipation:\n\n– Open to all WPA clubs and school athletes\, encouraging widespread involvement. \n– There is a structured entry process whereby submissions close 20 minutes before the event\, and participants must report to the Start Holding Area\, 10 minutes prior to their race for organization and safety. \n– Staggered starts for boys/men and girls/women (with a 3-minute lead for boys/men) help maintain fairness and competition dynamics. \n\n\n	\n	\n		\n	\n\n	\n\n		\n		\n			\n															\n		\n\n	\n\n\n	\n\n	\n\n		\n		\n			\n															\n		\n\n	\n\n\n	\n\n	\n\n		\n		\n			\n															\n		\n\n	\n\n\n	\n\n	\n\n		\n		\n			\n															\n		\n\n	\n\n\n	\n\n	\n\n		\n		\n			\n															\n		\n\n	\n\n\n	\n\n	\n\n		\n		\n			\n															\n		\n\n	\n\n\n	\n\n	\n\n		\n		\n			\n															\n		\n\n	\n\n\n	\n\n	\n\n		\n		\n			\n															\n		\n\n	\n\n\n	\n\n	\n\n		\n		\n			\n															\n		\n\n	\n\n\n	\n\n	\n\n		\n		\n			\n															\n		\n\n	\n\n\n	\n\n	\n\n		\n		\n			\n															\n		\n\n	\n\n\n	\n\n	\n\n		\n		\n			\n															\n		\n\n	\n\n		\n	\n\n	\n	\n	\n\n	\n\n\n 
URL:https://topformathletic.co.za/event/wpa-cross-country-championships-2/
CATEGORIES:Events
END:VEVENT
BEGIN:VEVENT
DTSTART;TZID=Europe/Helsinki:20240809T080000
DTEND;TZID=Europe/Helsinki:20240809T080000
DTSTAMP:20260422T130059
CREATED:20240608T235437Z
LAST-MODIFIED:20240609T001452Z
UID:1001-1723190400-1723190400@topformathletic.co.za
SUMMARY:Totalsports Women’s Day Race
DESCRIPTION:
URL:https://topformathletic.co.za/event/totalsports-womens-day-race-2/
CATEGORIES:Events
END:VEVENT
BEGIN:VEVENT
DTSTART;TZID=Europe/Helsinki:20240803T070000
DTEND;TZID=Europe/Helsinki:20240803T070000
DTSTAMP:20260422T130059
CREATED:20240608T235238Z
LAST-MODIFIED:20240609T001435Z
UID:999-1722668400-1722668400@topformathletic.co.za
SUMMARY:WPA Race Walking Grandprix 5
DESCRIPTION:
URL:https://topformathletic.co.za/event/wpa-race-walking-grandprix-5-2/
CATEGORIES:Events
END:VEVENT
BEGIN:VEVENT
DTSTART;TZID=Europe/Helsinki:20240803T070000
DTEND;TZID=Europe/Helsinki:20240803T070000
DTSTAMP:20260422T130059
CREATED:20240608T235238Z
LAST-MODIFIED:20240609T001435Z
UID:998-1722668400-1722668400@topformathletic.co.za
SUMMARY:Elsies River 10km – League Race
DESCRIPTION:
URL:https://topformathletic.co.za/event/elsies-river-10km-league-race-2/
CATEGORIES:Events
END:VEVENT
BEGIN:VEVENT
DTSTART;TZID=Europe/Helsinki:20240728T073000
DTEND;TZID=Europe/Helsinki:20240728T073000
DTSTAMP:20260422T130059
CREATED:20240608T235237Z
LAST-MODIFIED:20240609T001434Z
UID:997-1722151800-1722151800@topformathletic.co.za
SUMMARY:Pinelands 10km
DESCRIPTION:
URL:https://topformathletic.co.za/event/pinelands-10km-2/
CATEGORIES:Events
END:VEVENT
BEGIN:VEVENT
DTSTART;TZID=Europe/Helsinki:20240720T073000
DTEND;TZID=Europe/Helsinki:20240720T073000
DTSTAMP:20260422T130059
CREATED:20240608T235223Z
LAST-MODIFIED:20240609T001419Z
UID:994-1721460600-1721460600@topformathletic.co.za
SUMMARY:Curro Half Marathon
DESCRIPTION:
URL:https://topformathletic.co.za/event/curro-half-marathon-2/
CATEGORIES:Events
END:VEVENT
BEGIN:VEVENT
DTSTART;TZID=Europe/Helsinki:20240706T063000
DTEND;TZID=Europe/Helsinki:20240706T063000
DTSTAMP:20260422T130059
CREATED:20240608T235222Z
LAST-MODIFIED:20240609T001419Z
UID:993-1720247400-1720247400@topformathletic.co.za
SUMMARY:Eersteriver 15km – League Race
DESCRIPTION:
URL:https://topformathletic.co.za/event/eersteriver-15km-league-race-2/
CATEGORIES:Events
END:VEVENT
BEGIN:VEVENT
DTSTART;VALUE=DATE:20240629
DTEND;VALUE=DATE:20240630
DTSTAMP:20260422T130059
CREATED:20240608T235238Z
LAST-MODIFIED:20240916T145311Z
UID:1000-1719619200-1719705599@topformathletic.co.za
SUMMARY:WPA Cross Country
DESCRIPTION:
URL:https://topformathletic.co.za/event/wpa-cross-country-6/
CATEGORIES:Events
END:VEVENT
BEGIN:VEVENT
DTSTART;TZID=Europe/Helsinki:20240623T070000
DTEND;TZID=Europe/Helsinki:20240623T070000
DTSTAMP:20260422T130059
CREATED:20240608T235219Z
LAST-MODIFIED:20240609T001417Z
UID:990-1719126000-1719126000@topformathletic.co.za
SUMMARY:Table Mountain 16km
DESCRIPTION:
URL:https://topformathletic.co.za/event/table-mountain-16km-2/
CATEGORIES:Events
END:VEVENT
BEGIN:VEVENT
DTSTART;TZID=Europe/Helsinki:20240622T080000
DTEND;TZID=Europe/Helsinki:20240622T080000
DTSTAMP:20260422T130059
CREATED:20240608T235218Z
LAST-MODIFIED:20240609T002639Z
UID:989-1719043200-1719043200@topformathletic.co.za
SUMMARY:Mamre 21km\, 10km & 5km
DESCRIPTION:
URL:https://topformathletic.co.za/event/mamre-21km-10km-5km-2/
CATEGORIES:Events
ATTACH;FMTTYPE=image/jpeg:https://topformathletic.co.za/wp-content/uploads/2024/01/Capture-3.jpg
END:VEVENT
BEGIN:VEVENT
DTSTART;TZID=Europe/Helsinki:20240616T070000
DTEND;TZID=Europe/Helsinki:20240616T070000
DTSTAMP:20260422T130059
CREATED:20240608T235217Z
LAST-MODIFIED:20240609T002626Z
UID:988-1718521200-1718521200@topformathletic.co.za
SUMMARY:RCS GUGS Youth Day Race
DESCRIPTION:
URL:https://topformathletic.co.za/event/rcs-gugs-youth-day-race-2/
CATEGORIES:Events
ATTACH;FMTTYPE=image/png:https://topformathletic.co.za/wp-content/uploads/2024/01/Screenshot-2024-05-28-120619.png
END:VEVENT
BEGIN:VEVENT
DTSTART;TZID=Europe/Helsinki:20240615T080000
DTEND;TZID=Europe/Helsinki:20240615T080000
DTSTAMP:20260422T130059
CREATED:20240608T235216Z
LAST-MODIFIED:20240609T002610Z
UID:987-1718438400-1718438400@topformathletic.co.za
SUMMARY:WPA Cross Country League 4
DESCRIPTION:
URL:https://topformathletic.co.za/event/wpa-cross-country-league-4-2/
CATEGORIES:Events
ATTACH;FMTTYPE=image/jpeg:https://topformathletic.co.za/wp-content/uploads/2024/01/IMG-20240603-WA0036.jpg
END:VEVENT
BEGIN:VEVENT
DTSTART;VALUE=DATE:20240615
DTEND;VALUE=DATE:20240616
DTSTAMP:20260422T130059
CREATED:20240608T235237Z
LAST-MODIFIED:20240916T145230Z
UID:996-1718409600-1718495999@topformathletic.co.za
SUMMARY:WPA Cross Country
DESCRIPTION:
URL:https://topformathletic.co.za/event/wpa-cross-country-5/
CATEGORIES:Events
END:VEVENT
BEGIN:VEVENT
DTSTART;VALUE=DATE:20240602
DTEND;VALUE=DATE:20240603
DTSTAMP:20260422T130059
CREATED:20240608T235223Z
LAST-MODIFIED:20240916T145157Z
UID:995-1717286400-1717372799@topformathletic.co.za
SUMMARY:WPA Cross Country
DESCRIPTION:
URL:https://topformathletic.co.za/event/wpa-cross-country-4/
CATEGORIES:Events
END:VEVENT
BEGIN:VEVENT
DTSTART;VALUE=DATE:20240519
DTEND;VALUE=DATE:20240520
DTSTAMP:20260422T130059
CREATED:20240608T235219Z
LAST-MODIFIED:20240916T145122Z
UID:991-1716076800-1716163199@topformathletic.co.za
SUMMARY:WPA Cross Country
DESCRIPTION:
URL:https://topformathletic.co.za/event/wpa-cross-country-3/
CATEGORIES:Events
END:VEVENT
BEGIN:VEVENT
DTSTART;VALUE=DATE:20240413
DTEND;VALUE=DATE:20240414
DTSTAMP:20260422T130059
CREATED:20240608T235550Z
LAST-MODIFIED:20240916T152335Z
UID:1013-1712966400-1713052799@topformathletic.co.za
SUMMARY:WPA Little Athletics and Non-Standard Events
DESCRIPTION:
URL:https://topformathletic.co.za/event/wpa-little-athletics-and-non-standard-events-2/
CATEGORIES:Events
END:VEVENT
BEGIN:VEVENT
DTSTART;TZID=Europe/Helsinki:20240119T080000
DTEND;TZID=Europe/Helsinki:20240120T170000
DTSTAMP:20260422T130059
CREATED:20240913T134903Z
LAST-MODIFIED:20240913T134903Z
UID:1958-1705651200-1705770000@topformathletic.co.za
SUMMARY:WPA Combined Events & T&F League 1
DESCRIPTION:
URL:https://topformathletic.co.za/event/wpa-combined-events-tf-league-1/
END:VEVENT
BEGIN:VEVENT
DTSTART;VALUE=DATE:20240113
DTEND;VALUE=DATE:20240114
DTSTAMP:20260422T130059
CREATED:20240913T134242Z
LAST-MODIFIED:20240913T134242Z
UID:1956-1705104000-1705190399@topformathletic.co.za
SUMMARY:Hohenort 15 Km
DESCRIPTION:
URL:https://topformathletic.co.za/event/hohenort-15-km/
END:VEVENT
BEGIN:VEVENT
DTSTART;TZID=Europe/Helsinki:20241020T060000
DTEND;TZID=Europe/Helsinki:20241020T060000
DTSTAMP:20260422T130059
CREATED:20240917T054831Z
LAST-MODIFIED:20240917T062949Z
UID:1984-1729404000-1729404000@topformathletic.co.za
SUMMARY:Sanlam Cape Town Marathon 42\,2km
DESCRIPTION:
URL:https://topformathletic.co.za/event/sanlam-cape-town-marathon-422km/
LOCATION:DHL Stadium Precinct
CATEGORIES:Events
END:VEVENT
END:VCALENDAR